View In:
ArcGIS JavaScript
ArcGIS Online Map Viewer
ArcGIS Earth
ArcMap
View Footprint In:
ArcGIS Online Map Viewer
Service Description: Imagery_MCAD_2025
Name: Imagery_MCAD_2025
Description:
Single Fused Map Cache: true
Tile Info:
- Height: 256
- Width: 256
- DPI: 96
-
Levels of Detail: 24
-
Level ID: 0
[ Start Tile, End Tile ]
- Resolution: 992981.6887768427
- Scale: 1.1439171933053093E9
-
Level ID: 1
[ Start Tile, End Tile ]
- Resolution: 496490.84438842133
- Scale: 5.719585966526546E8
-
Level ID: 2
[ Start Tile, End Tile ]
- Resolution: 248245.42219421067
- Scale: 2.859792983263273E8
-
Level ID: 3
[ Start Tile, End Tile ]
- Resolution: 124122.71109710533
- Scale: 1.4298964916316366E8
-
Level ID: 4
[ Start Tile, End Tile ]
- Resolution: 62061.35554855267
- Scale: 7.149482458158183E7
-
Level ID: 5
[ Start Tile, End Tile ]
- Resolution: 31030.677774276333
- Scale: 3.5747412290790915E7
-
Level ID: 6
[ Start Tile, End Tile ]
- Resolution: 15515.338887138167
- Scale: 1.7873706145395458E7
-
Level ID: 7
[ Start Tile, End Tile ]
- Resolution: 7757.669443569083
- Scale: 8936853.072697729
-
Level ID: 8
[ Start Tile, End Tile ]
- Resolution: 3878.8347217845417
- Scale: 4468426.536348864
-
Level ID: 9
[ Start Tile, End Tile ]
- Resolution: 1939.4173608922708
- Scale: 2234213.268174432
-
Level ID: 10
[ Start Tile, End Tile ]
- Resolution: 969.7086804461354
- Scale: 1117106.634087216
-
Level ID: 11
[ Start Tile, End Tile ]
- Resolution: 484.8543402230677
- Scale: 558553.317043608
-
Level ID: 12
[ Start Tile, End Tile ]
- Resolution: 242.42717011153385
- Scale: 279276.658521804
-
Level ID: 13
[ Start Tile, End Tile ]
- Resolution: 121.21358505576693
- Scale: 139638.329260902
-
Level ID: 14
[ Start Tile, End Tile ]
- Resolution: 60.606792527883464
- Scale: 69819.164630451
-
Level ID: 15
[ Start Tile, End Tile ]
- Resolution: 30.303396263941732
- Scale: 34909.5823152255
-
Level ID: 16
[ Start Tile, End Tile ]
- Resolution: 15.151698131970866
- Scale: 17454.79115761275
-
Level ID: 17
[ Start Tile, End Tile ]
- Resolution: 7.575849065985433
- Scale: 8727.395578806376
-
Level ID: 18
[ Start Tile, End Tile ]
- Resolution: 3.7879245329927165
- Scale: 4363.697789403188
-
Level ID: 19
[ Start Tile, End Tile ]
- Resolution: 1.8939622664963582
- Scale: 2181.848894701594
-
Level ID: 20
[ Start Tile, End Tile ]
- Resolution: 0.9469811332481791
- Scale: 1090.924447350797
-
Level ID: 21
[ Start Tile, End Tile ]
- Resolution: 0.47349056662408956
- Scale: 545.4622236753985
-
Level ID: 22
[ Start Tile, End Tile ]
- Resolution: 0.23674528331204478
- Scale: 272.73111183769925
-
Level ID: 23
[ Start Tile, End Tile ]
- Resolution: 0.11837264165602239
- Scale: 136.36555591884962
- Format: PNG
- Compression Quality: 0.0
- LERC Error: NaN
- Origin: X: -1.2480507283010253E8
Y: 1.1173513948980975E8
- Spatial Reference: 102739
(2277)
Extent:
XMin: 3789027.50000003
YMin: 1.0032830500000015E7
XMax: 3845268.25000003
YMax: 1.0087202499999996E7
Spatial Reference: 102739
(2277)
Initial Extent:
XMin: 3789027.50000003
YMin: 1.0032830500000015E7
XMax: 3845268.25000003
YMax: 1.0087202499999996E7
Spatial Reference: 102739
(2277)
Full Extent:
XMin: 3789027.50000003
YMin: 1.0032830500000015E7
XMax: 3845268.25000003
YMax: 1.0087202499999996E7
Spatial Reference: 102739
(2277)
Pixel Size X: 0.25
Pixel Size Y: 0.24999999999991435
Band Count: 3
Pixel Type: U8
RasterFunction Infos: {"rasterFunctionInfos": [{
"name": "None",
"description": "",
"help": ""
}]}
Mensuration Capabilities: Basic
Has Histograms: true
Has Colormap: false
Has Multi Dimensions : false
Rendering Rule:
Min Scale: 139638.329260902
Max Scale: 4363.697789403188
Min LOD: 13
Max LOD: 18
Copyright Text:
Service Data Type: esriImageServiceDataTypeProcessed
Min Values: 0, 0, 0
Max Values: 255, 255, 255
Mean Values: 138.32419983282597, 137.29193598193083, 129.59273982734288
Standard Deviation Values: 71.20047788865594, 70.85364029726838, 73.78033723766703
Object ID Field:
Fields:
None
Default Mosaic Method: Center
Allowed Mosaic Methods:
SortField:
SortValue: null
Mosaic Operator: First
Default Compression Quality: 75
Default Resampling Method: Bilinear
Max Record Count: null
Max Image Height: 4100
Max Image Width: 15000
Max Download Image Count: null
Max Mosaic Image Count: null
Allow Raster Function: true
Allow Copy: true
Allow Analysis: true
Allow Compute TiePoints: false
Supports Statistics: false
Supports Advanced Queries: false
Use StandardizedQueries: true
Raster Type Infos:
Name: Raster Dataset
Description: Supports all ArcGIS Raster Datasets
Help:
Has Raster Attribute Table: false
Edit Fields Info: null
Ownership Based AccessControl For Rasters: null
Child Resources:
Info
Histograms
Statistics
Key Properties
Legend
Raster Function Infos
Supported Operations:
Export Image
Identify
Measure
Compute Histograms
Compute Statistics Histograms
Get Samples
Compute Class Statistics
Query Boundary
Compute Pixel Location
Validate
Project