{
 "currentVersion": 10.81,
 "serviceDescription": "Imagery_MCAD_2025",
 "name": "Imagery_MCAD_2025",
 "description": "",
 "extent": {
  "xmin": 3789027.50000003,
  "ymin": 1.0032830500000015E7,
  "xmax": 3845268.25000003,
  "ymax": 1.0087202499999996E7,
  "spatialReference": {
   "wkid": 102739,
   "latestWkid": 2277
  }
 },
 "initialExtent": {
  "xmin": 3789027.50000003,
  "ymin": 1.0032830500000015E7,
  "xmax": 3845268.25000003,
  "ymax": 1.0087202499999996E7,
  "spatialReference": {
   "wkid": 102739,
   "latestWkid": 2277
  }
 },
 "fullExtent": {
  "xmin": 3789027.50000003,
  "ymin": 1.0032830500000015E7,
  "xmax": 3845268.25000003,
  "ymax": 1.0087202499999996E7,
  "spatialReference": {
   "wkid": 102739,
   "latestWkid": 2277
  }
 },
 "pixelSizeX": 0.25,
 "pixelSizeY": 0.24999999999991435,
 "datasetFormat": "SDR",
 "uncompressedSize": 146780258832,
 "blockWidth": 128,
 "blockHeight": 128,
 "compressionType": "NONE",
 "bandNames": [
  "Band_1",
  "Band_2",
  "Band_3"
 ],
 "allowCopy": true,
 "allowAnalysis": true,
 "bandCount": 3,
 "pixelType": "U8",
 "minPixelSize": 3.7879245329927165,
 "maxPixelSize": 121.21358505576693,
 "copyrightText": "",
 "serviceDataType": "esriImageServiceDataTypeProcessed",
 "serviceSourceType": "esriImageServiceSourceTypeDataset",
 "minValues": [
  0,
  0,
  0
 ],
 "maxValues": [
  255,
  255,
  255
 ],
 "meanValues": [
  138.32419983282597,
  137.29193598193083,
  129.59273982734288
 ],
 "stdvValues": [
  71.20047788865594,
  70.85364029726838,
  73.78033723766703
 ],
 "objectIdField": "",
 "fields": [],
 "capabilities": "Image,Metadata,Mensuration",
 "defaultMosaicMethod": "Center",
 "allowedMosaicMethods": "",
 "sortField": "",
 "sortValue": null,
 "sortAscending": true,
 "mosaicOperator": "First",
 "defaultCompressionQuality": 75,
 "defaultResamplingMethod": "Bilinear",
 "maxImageHeight": 4100,
 "maxImageWidth": 15000,
 "singleFusedMapCache": true,
 "tileInfo": {
  "rows": 256,
  "cols": 256,
  "dpi": 96,
  "format": "PNG",
  "compressionQuality": 0,
  "origin": {
   "x": -1.2480507283010253E8,
   "y": 1.1173513948980975E8
  },
  "spatialReference": {
   "wkid": 102739,
   "latestWkid": 2277
  },
  "lods": [
   {
    "level": 0,
    "resolution": 992981.6887768427,
    "scale": 1.1439171933053093E9
   },
   {
    "level": 1,
    "resolution": 496490.84438842133,
    "scale": 5.719585966526546E8
   },
   {
    "level": 2,
    "resolution": 248245.42219421067,
    "scale": 2.859792983263273E8
   },
   {
    "level": 3,
    "resolution": 124122.71109710533,
    "scale": 1.4298964916316366E8
   },
   {
    "level": 4,
    "resolution": 62061.35554855267,
    "scale": 7.149482458158183E7
   },
   {
    "level": 5,
    "resolution": 31030.677774276333,
    "scale": 3.5747412290790915E7
   },
   {
    "level": 6,
    "resolution": 15515.338887138167,
    "scale": 1.7873706145395458E7
   },
   {
    "level": 7,
    "resolution": 7757.669443569083,
    "scale": 8936853.072697729
   },
   {
    "level": 8,
    "resolution": 3878.8347217845417,
    "scale": 4468426.536348864
   },
   {
    "level": 9,
    "resolution": 1939.4173608922708,
    "scale": 2234213.268174432
   },
   {
    "level": 10,
    "resolution": 969.7086804461354,
    "scale": 1117106.634087216
   },
   {
    "level": 11,
    "resolution": 484.8543402230677,
    "scale": 558553.317043608
   },
   {
    "level": 12,
    "resolution": 242.42717011153385,
    "scale": 279276.658521804
   },
   {
    "level": 13,
    "resolution": 121.21358505576693,
    "scale": 139638.329260902
   },
   {
    "level": 14,
    "resolution": 60.606792527883464,
    "scale": 69819.164630451
   },
   {
    "level": 15,
    "resolution": 30.303396263941732,
    "scale": 34909.5823152255
   },
   {
    "level": 16,
    "resolution": 15.151698131970866,
    "scale": 17454.79115761275
   },
   {
    "level": 17,
    "resolution": 7.575849065985433,
    "scale": 8727.395578806376
   },
   {
    "level": 18,
    "resolution": 3.7879245329927165,
    "scale": 4363.697789403188
   },
   {
    "level": 19,
    "resolution": 1.8939622664963582,
    "scale": 2181.848894701594
   },
   {
    "level": 20,
    "resolution": 0.9469811332481791,
    "scale": 1090.924447350797
   },
   {
    "level": 21,
    "resolution": 0.47349056662408956,
    "scale": 545.4622236753985
   },
   {
    "level": 22,
    "resolution": 0.23674528331204478,
    "scale": 272.73111183769925
   },
   {
    "level": 23,
    "resolution": 0.11837264165602239,
    "scale": 136.36555591884962
   }
  ]
 },
 "cacheType": "Map",
 "allowRasterFunction": true,
 "rasterFunctionInfos": [
  {
   "name": "None",
   "description": "",
   "help": ""
  }
 ],
 "rasterTypeInfos": [
  {
   "name": "Raster Dataset",
   "description": "Supports all ArcGIS Raster Datasets",
   "help": ""
  }
 ],
 "mensurationCapabilities": "Basic",
 "hasHistograms": true,
 "hasColormap": false,
 "hasRasterAttributeTable": false,
 "minScale": 139638.329260902,
 "maxScale": 4363.697789403188,
 "minLOD": 13,
 "maxLOD": 18,
 "exportTilesAllowed": false,
 "hasMultidimensions": false,
 "supportsStatistics": false,
 "supportsAdvancedQueries": false,
 "editFieldsInfo": null,
 "ownershipBasedAccessControlForRasters": null,
 "allowComputeTiePoints": false,
 "useStandardizedQueries": true,
 "advancedQueryCapabilities": {
  "useStandardizedQueries": true,
  "supportsStatistics": false,
  "supportsOrderBy": false,
  "supportsDistinct": false,
  "supportsPagination": false
 },
 "spatialReference": {
  "wkid": 102739,
  "latestWkid": 2277
 }
}
