View In:
ArcGIS JavaScript
ArcGIS Online Map Viewer
ArcGIS Earth
ArcMap
View Footprint In:
ArcGIS Online Map Viewer
Service Description: Imagery_HCAD_2025
Name: Imagery_HCAD_2025
Description:
Single Fused Map Cache: true
Tile Info:
- Height: 256
- Width: 256
- DPI: 96
-
Levels of Detail: 24
-
Level ID: 0
[ Start Tile, End Tile ]
- Resolution: 1005420.2907929756
- Scale: 1.158246491486491E9
-
Level ID: 1
[ Start Tile, End Tile ]
- Resolution: 502710.1453964878
- Scale: 5.791232457432455E8
-
Level ID: 2
[ Start Tile, End Tile ]
- Resolution: 251355.0726982439
- Scale: 2.8956162287162274E8
-
Level ID: 3
[ Start Tile, End Tile ]
- Resolution: 125677.53634912195
- Scale: 1.4478081143581137E8
-
Level ID: 4
[ Start Tile, End Tile ]
- Resolution: 62838.76817456097
- Scale: 7.239040571790569E7
-
Level ID: 5
[ Start Tile, End Tile ]
- Resolution: 31419.384087280487
- Scale: 3.619520285895284E7
-
Level ID: 6
[ Start Tile, End Tile ]
- Resolution: 15709.692043640243
- Scale: 1.809760142947642E7
-
Level ID: 7
[ Start Tile, End Tile ]
- Resolution: 7854.846021820122
- Scale: 9048800.71473821
-
Level ID: 8
[ Start Tile, End Tile ]
- Resolution: 3927.423010910061
- Scale: 4524400.357369105
-
Level ID: 9
[ Start Tile, End Tile ]
- Resolution: 1963.7115054550304
- Scale: 2262200.1786845527
-
Level ID: 10
[ Start Tile, End Tile ]
- Resolution: 981.8557527275152
- Scale: 1131100.0893422763
-
Level ID: 11
[ Start Tile, End Tile ]
- Resolution: 490.9278763637576
- Scale: 565550.0446711382
-
Level ID: 12
[ Start Tile, End Tile ]
- Resolution: 245.4639381818788
- Scale: 282775.0223355691
-
Level ID: 13
[ Start Tile, End Tile ]
- Resolution: 122.7319690909394
- Scale: 141387.51116778454
-
Level ID: 14
[ Start Tile, End Tile ]
- Resolution: 61.3659845454697
- Scale: 70693.75558389227
-
Level ID: 15
[ Start Tile, End Tile ]
- Resolution: 30.68299227273485
- Scale: 35346.877791946135
-
Level ID: 16
[ Start Tile, End Tile ]
- Resolution: 15.341496136367425
- Scale: 17673.438895973068
-
Level ID: 17
[ Start Tile, End Tile ]
- Resolution: 7.670748068183713
- Scale: 8836.719447986534
-
Level ID: 18
[ Start Tile, End Tile ]
- Resolution: 3.8353740340918563
- Scale: 4418.359723993267
-
Level ID: 19
[ Start Tile, End Tile ]
- Resolution: 1.9176870170459281
- Scale: 2209.1798619966335
-
Level ID: 20
[ Start Tile, End Tile ]
- Resolution: 0.9588435085229641
- Scale: 1104.5899309983167
-
Level ID: 21
[ Start Tile, End Tile ]
- Resolution: 0.47942175426148204
- Scale: 552.2949654991584
-
Level ID: 22
[ Start Tile, End Tile ]
- Resolution: 0.23971087713074102
- Scale: 276.1474827495792
-
Level ID: 23
[ Start Tile, End Tile ]
- Resolution: 0.11985543856537051
- Scale: 138.0737413747896
- Format: PNG
- Compression Quality: 0.0
- LERC Error: NaN
- Origin: X: -1.2672529722150084E8
Y: 1.1524462864788455E8
- Spatial Reference: 102740
(2278)
Extent:
XMin: 3040272.666672915
YMin: 1.3964072499916658E7
XMax: 3095400.0011088084
YMax: 1.3989360000422394E7
Spatial Reference: 102740
(2278)
Initial Extent:
XMin: 3040272.666672915
YMin: 1.3964072499916658E7
XMax: 3095400.0011088084
YMax: 1.3989360000422394E7
Spatial Reference: 102740
(2278)
Full Extent:
XMin: 3040272.666672915
YMin: 1.3964072499916658E7
XMax: 3095400.0011088084
YMax: 1.3989360000422394E7
Spatial Reference: 102740
(2278)
Pixel Size X: 0.16666667000003998
Pixel Size Y: 0.16666666999990837
Band Count: 3
Pixel Type: U8
RasterFunction Infos: {"rasterFunctionInfos": [{
"name": "None",
"description": "",
"help": ""
}]}
Mensuration Capabilities: Basic
Has Histograms: true
Has Colormap: false
Has Multi Dimensions : false
Rendering Rule:
Min Scale: 70693.75558389227
Max Scale: 2209.1798619966335
Min LOD: 14
Max LOD: 19
Copyright Text:
Service Data Type: esriImageServiceDataTypeRGB
Min Values: 0, 0, 0
Max Values: 255, 255, 255
Mean Values: 107.15644602712786, 107.78468100984658, 100.67976197013863
Standard Deviation Values: 60.09325286049914, 56.97871154583368, 54.444091587118784
Object ID Field:
Fields:
None
Default Mosaic Method: Center
Allowed Mosaic Methods:
SortField:
SortValue: null
Mosaic Operator: First
Default Compression Quality: 75
Default Resampling Method: Bilinear
Max Record Count: null
Max Image Height: 4100
Max Image Width: 15000
Max Download Image Count: null
Max Mosaic Image Count: null
Allow Raster Function: true
Allow Copy: true
Allow Analysis: true
Allow Compute TiePoints: false
Supports Statistics: false
Supports Advanced Queries: false
Use StandardizedQueries: true
Raster Type Infos:
Name: Raster Dataset
Description: Supports all ArcGIS Raster Datasets
Help:
Has Raster Attribute Table: false
Edit Fields Info: null
Ownership Based AccessControl For Rasters: null
Child Resources:
Info
Histograms
Statistics
Key Properties
Legend
Raster Function Infos
Supported Operations:
Export Image
Identify
Measure
Compute Histograms
Compute Statistics Histograms
Get Samples
Compute Class Statistics
Query Boundary
Compute Pixel Location
Validate
Project